BEGIN:VCALENDAR
VERSION:2.0
PRODID:-//Kilgore HD Miniatures - ECPv6.15.11//NONSGML v1.0//EN
CALSCALE:GREGORIAN
METHOD:PUBLISH
X-ORIGINAL-URL:https://kilgorehd-miniatures.com
X-WR-CALDESC:Eventos para Kilgore HD Miniatures
REFRESH-INTERVAL;VALUE=DURATION:PT1H
X-Robots-Tag:noindex
X-PUBLISHED-TTL:PT1H
BEGIN:VTIMEZONE
TZID:Europe/Madrid
BEGIN:DAYLIGHT
TZOFFSETFROM:+0100
TZOFFSETTO:+0200
TZNAME:CEST
DTSTART:20240331T010000
END:DAYLIGHT
BEGIN:STANDARD
TZOFFSETFROM:+0200
TZOFFSETTO:+0100
TZNAME:CET
DTSTART:20241027T010000
END:STANDARD
BEGIN:DAYLIGHT
TZOFFSETFROM:+0100
TZOFFSETTO:+0200
TZNAME:CEST
DTSTART:20250330T010000
END:DAYLIGHT
BEGIN:STANDARD
TZOFFSETFROM:+0200
TZOFFSETTO:+0100
TZNAME:CET
DTSTART:20251026T010000
END:STANDARD
BEGIN:DAYLIGHT
TZOFFSETFROM:+0100
TZOFFSETTO:+0200
TZNAME:CEST
DTSTART:20260329T010000
END:DAYLIGHT
BEGIN:STANDARD
TZOFFSETFROM:+0200
TZOFFSETTO:+0100
TZNAME:CET
DTSTART:20261025T010000
END:STANDARD
END:VTIMEZONE
BEGIN:VEVENT
DTSTART;TZID=Europe/Madrid:20250905T160000
DTEND;TZID=Europe/Madrid:20250907T140000
DTSTAMP:20260424T101158
CREATED:20250709T091802Z
LAST-MODIFIED:20250709T091802Z
UID:3612-1757088000-1757253600@kilgorehd-miniatures.com
SUMMARY:Pintura y weathering de carro ligero H39
DESCRIPTION:Curso de pintura y weathering del carro ligero francés H39 \nImprimación\, capa base\, iluminación\, camuflaje francés\, envejecimiento con enamels y óleos\, empolvado \n15 plazas. Comida del sábado incluía cortesía de Domino’s Pizza \nInformación y reservas en info@kilforehd-miniatures.com
URL:https://kilgorehd-miniatures.com/calendario-cursos/pintura-y-weathering-de-carro-ligero-h39/
END:VEVENT
BEGIN:VEVENT
DTSTART;TZID=Europe/Madrid:20250913T000000
DTEND;TZID=Europe/Madrid:20250914T000000
DTSTAMP:20260424T101158
CREATED:20250503T190541Z
LAST-MODIFIED:20250503T190541Z
UID:3525-1757721600-1757808000@kilgorehd-miniatures.com
SUMMARY:Curso Magnus Fagerberg
DESCRIPTION:Curso de pintura de figuras\, impartido por Magnus Fagerberg. Pintura de busto con acrílicos. \nContenido: \n\nteoría del color – creación de ambientes en figuras\npráctica con acrílicos a pincel\nvolumetrías y aplicación\nTODO el material incluído.\nBusto incluído\n\nAforo limitado: 14 plazas \nDuración: 16 horas \nPrecio: 250 euros (IVA incluído) (225 euros para socios de Ágora) \nInscripciones: enviar email a info@kilgorehd-miniatures.com
URL:https://kilgorehd-miniatures.com/calendario-cursos/curso-magnus-fagerberg/
END:VEVENT
END:VCALENDAR